BEGIN:VCALENDAR
VERSION:2.0
PRODID:-//Harbor Point Vacation Rentals - ECPv6.15.20//NONSGML v1.0//EN
CALSCALE:GREGORIAN
METHOD:PUBLISH
X-WR-CALNAME:Harbor Point Vacation Rentals
X-ORIGINAL-URL:https://www.harborpointrentals.com
X-WR-CALDESC:Events for Harbor Point Vacation Rentals
REFRESH-INTERVAL;VALUE=DURATION:PT1H
X-Robots-Tag:noindex
X-PUBLISHED-TTL:PT1H
BEGIN:VTIMEZONE
TZID:America/New_York
BEGIN:DAYLIGHT
TZOFFSETFROM:-0500
TZOFFSETTO:-0400
TZNAME:EDT
DTSTART:20250309T070000
END:DAYLIGHT
BEGIN:STANDARD
TZOFFSETFROM:-0400
TZOFFSETTO:-0500
TZNAME:EST
DTSTART:20251102T060000
END:STANDARD
BEGIN:DAYLIGHT
TZOFFSETFROM:-0500
TZOFFSETTO:-0400
TZNAME:EDT
DTSTART:20260308T070000
END:DAYLIGHT
BEGIN:STANDARD
TZOFFSETFROM:-0400
TZOFFSETTO:-0500
TZNAME:EST
DTSTART:20261101T060000
END:STANDARD
BEGIN:DAYLIGHT
TZOFFSETFROM:-0500
TZOFFSETTO:-0400
TZNAME:EDT
DTSTART:20270314T070000
END:DAYLIGHT
BEGIN:STANDARD
TZOFFSETFROM:-0400
TZOFFSETTO:-0500
TZNAME:EST
DTSTART:20271107T060000
END:STANDARD
END:VTIMEZONE
BEGIN:VEVENT
DTSTART;TZID=America/New_York:20260428T180000
DTEND;TZID=America/New_York:20260428T193000
DTSTAMP:20260423T110348
CREATED:20260412T150033Z
LAST-MODIFIED:20260422T153022Z
UID:16928-1777399200-1777404600@www.harborpointrentals.com
SUMMARY:Trivia Tuesdays at Crooked River Grill
DESCRIPTION:Get ready for the most entertaining night of the week at Crooked River Grill! Join us every Tuesday from 6–7:30 PM for Trivia Night hosted by the one and only Cecily Stevens—bringing the energy\, the laughs\, and just the right amount of competitive chaos.\nExpect plenty of hootin’ and hollerin’\, fast-paced fun\, and questions that’ll keep your brain firing on all cylinders. Whether you’re a trivia junkie or just here for a good time\, this is your chance to test your knowledge\, rally your crew\, and maybe even walk away with bragging rights.\nEven better? It’s all for a great cause. Entry is just $2\, and every dollar goes toward supporting a different local nonprofit each month—so you can feel good while you’re having a blast.\nCome soak in the atmosphere\, enjoy the beauty of the property\, and bring your A-game.\nYou bring the brains—we’ll bring the teasers.
URL:https://www.harborpointrentals.com/event/trivia-tuesdays-at-crooked-river-grill-9/
LOCATION:Crooked River Grill\, 133 Quail Ln\, Monticello\, FL\, United States
ATTACH;FMTTYPE=image/png:https://www.harborpointrentals.com/wp-content/uploads/2026/03/Trivia-TDC-Dimensions-mN9UX5.png
ORGANIZER;CN="Crooked River Grill":MAILTO:chef@stjamesbayresort.com
END:VEVENT
BEGIN:VEVENT
DTSTART;TZID=America/New_York:20260430T150000
DTEND;TZID=America/New_York:20260430T180000
DTSTAMP:20260423T110348
CREATED:20260412T150033Z
LAST-MODIFIED:20260422T153022Z
UID:16929-1777561200-1777572000@www.harborpointrentals.com
SUMMARY:Yappy Hour at the Beer Garden
DESCRIPTION:Thursdays just got a whole lot better\, for you and your pup. Yappy Hour at St. James Bay is the perfect excuse to kick back in our laid-back outdoor setting\, where the breeze off the bay\, warm sunshine\, and easygoing vibe set the tone for a relaxing afternoon.\nWhile you enjoy happy hour food and drink specials\, your dog gets the VIP treatment with free snacks and fresh water bowls\, because they deserve a good time too. It’s part social hour\, part puppy party\, with plenty of tail wags\, cold drinks\, and great company all around.\nGrab a seat\, bring your pup\, and settle in. This is what afternoons at the bay are all about.
URL:https://www.harborpointrentals.com/event/yappy-hour-at-the-beer-garden-5/
LOCATION:Crooked River Grill\, 133 Quail Ln\, Monticello\, FL\, United States
ORGANIZER;CN="Crooked River Grill":MAILTO:chef@stjamesbayresort.com
END:VEVENT
BEGIN:VEVENT
DTSTART;TZID=America/New_York:20260501T133000
DTEND;TZID=America/New_York:20260501T173000
DTSTAMP:20260423T110348
CREATED:20260414T150033Z
LAST-MODIFIED:20260422T153022Z
UID:16939-1777642200-1777656600@www.harborpointrentals.com
SUMMARY:Estuaries Day
DESCRIPTION:The Apalachicola National Estuarine Research Reserve will celebrate Estuaries Day on Friday\, May 1st\, from 1:30-5:30 pm E.T. in Eastpoint. The event is free and will include fun educational activities for kids and adults\, and estuary-themed games. Please note that all children must be accompanied by an adult.\nNew activities will be debuting this year such as ink block art printing\, Be Bay Aware\, the junior water quality lab\, and living shoreline demonstrations. Old favorites will also be returning\, including the cast net game\, the wacky waterfront race\, aquatic animal touch tanks\, live oyster microscope viewing\, glass grinding and sand art\, Be-A-Bear\, and more!\nAttendees can also tour ANERR’s 5\,400 square-foot Nature Center with its three large aquariums filled with local estuarine and marine life\, an 80-foot-long mural depicting the area ecosystems\, and a hands-on Bay Discovery Room.\nThe first 600 visitors will receive a free T-shirt (for ages three and up). For more information contact the Apalachicola National Research Reserve at 850-670-7700.
URL:https://www.harborpointrentals.com/event/estuaries-day/
LOCATION:Apalachicola National Estuarine Research Reserve Nature Center\, 98 Island Dr\, Eastpoint\, FL\, United States
ATTACH;FMTTYPE=image/jpeg:https://www.harborpointrentals.com/wp-content/uploads/2021/08/estuaries-day-1EBVWk.tmp_.jpg
END:VEVENT
BEGIN:VEVENT
DTSTART;TZID=America/New_York:20260501T190000
DTEND;TZID=America/New_York:20260501T220000
DTSTAMP:20260423T110348
CREATED:20260414T150033Z
LAST-MODIFIED:20260422T153022Z
UID:16940-1777662000-1777672800@www.harborpointrentals.com
SUMMARY:Twilight at the Tower at Crooked River Lighthouse
DESCRIPTION:The Crooked River Lighthouse will be hosting Twilight at the Tower on Friday\, May 1 from 7:00-10:00 pm ET in Carrabelle\, FL. This special event invites visitors to enjoy after-hours museum visits\, gift shop browsing\, a glowing bonfire\, tower climbs\, and the gorgeous natural surroundings of St. George Sound and Carrabelle Beach as evening falls and the Flower moon rises.  Admission is free. In celebration of the upcoming Mother’s Day\, mothers can climb free at this event.\nAs the season of spring progresses\, the days grow longer and the weather improves\, inspiring plants everywhere to “spring forth” and blossom! By May\, winter’s cold grip has loosened and many plants take the opportunity to produce flowers at this time. Due to this\, May’s full Moon has traditionally been known as the “Flower Moon.” (Credit: The Old Farmer’s Almanac).\nThe Keeper’s House Museum will be open for after-hours tours featuring the lighthouse’s original Fresnel lens constructed in 1894 in Paris\, France. The lighthouse gift shop will offer a variety of unique nautical gifts and souvenirs\, and the Beacon Bistro will have delicious baked goodies\, popcorn\, hot chocolate\, and s’more kits available by donation. A glowing bonfire will create a perfect atmosphere for folks to kick back\, relax and enjoy the evening. As the sky shifts from watercolor hues to deep evening blues\, visitors are welcome to bring a chair and unwind on the lighthouse grounds.\nVisitors seeking an unforgettable experience can enjoy twilight tower climbs to the top of the tallest lighthouse on the Forgotten Coast. From the top\, climbers will be treated to panoramic views of St. George Sound\, Carrabelle Beach and the beautiful colors of the evening sky. Climb reservations are encouraged. Evening climbs are scheduled at 15-minute intervals and cost $10 for the public. Climbs are free for mothers\, current members and those 12 and under with a ticketed adult. Climb reservations are available in the gift shop or online.
URL:https://www.harborpointrentals.com/event/twilight-at-the-tower-at-crooked-river-lighthouse-3/
LOCATION:Crooked River Lighthouse\, 2100 Hwy 98\, Carrabelle\, FL\, United States
ATTACH;FMTTYPE=image/jpeg:https://www.harborpointrentals.com/wp-content/uploads/2025/07/Carrabelle-Crooked-River-Lighthouse-ygNA98.jpg
ORGANIZER;CN="Crooked River Lighthouse":MAILTO:carrabellelighthouse@gmail.com
END:VEVENT
BEGIN:VEVENT
DTSTART;TZID=America/New_York:20260501T201500
DTEND;TZID=America/New_York:20260501T221500
DTSTAMP:20260423T110348
CREATED:20260414T150033Z
LAST-MODIFIED:20260422T153022Z
UID:16941-1777666500-1777673700@www.harborpointrentals.com
SUMMARY:Cape St. St.George Sunset & Full Moon Climb
DESCRIPTION:CAPE ST. GEORGE LIGHT TO HOST MAY SUNSET AND FULL MOON CLIMB\nFriday\, May 1\, 2026 | 8:15–10:15 p.m. | St. George Island\, Florida\nST. GEORGE ISLAND\, FL – The St. George Lighthouse Association invites the public to experience the magic of the full moon with a Sunset and Full Moon Climb at the Cape St. George Light on Friday\, May 1\, 2026\, from 8:15 to 10:15 p.m.\nEvent Highlights\n• Sunset at 8:17 p.m.\n• Moonrise at 8:34 p.m.\nClimb Details\n• Time: 8:15 p.m. to 10:15 p.m.\n• Tickets: Tickets can be purchased beginning at 7:45 p.m. in the Lighthouse Gift Shop\, No advance reservations will be accepted.\n• Cost: General Public – $10.00 per climber; SGLA Member – $7.00 per climber\n• Payment: Cash and credit cards are accepted.\n• Format: Fifteen-minute lighthouse climbs are offered on a first-come\, first-served basis.\n• Capacity: Each time slot is limited to 12 climbers to ensure safety and comfort.\nVisitor Requirements\n• All climbers must be at least 40 inches tall.\n• For safety reasons\, only children aged 13 and older may access the exterior catwalk.\nLocation – The Cape St. George Light is in Lighthouse Park at the center of St. George Island – End of Island Drive (off the bridge) at Gulf Beach Drive.\nHow to Participate\n1. Arrive at Lighthouse Park and park in lots on either side of the park.\n2. Visit the Gift Shop (opening at 7:45 p.m.) to purchase your climb ticket.\n3. Proceed next door to the lighthouse tower and sign up with the lighthouse keeper for your preferred 15-minute climb time.\n4. Prepare for an unforgettable experience of sweeping panoramic views of Gulf waters and island shores.\nWeather Permitting – The Sunset and Full Moon Climb is weather permitting. In the event of inclement conditions\, updates will be posted on the St. George Lighthouse\, Museum & Gift Shop Facebook page.\nAbout the Flower Moon\nThe May full moon\, widely known as the “Flower Moon\,” was named by early Native American tribes\, reflecting the explosion of spring blossoms across the Northern Hemisphere. Fields\, forests\, and gardens enter peak bloom\, and this rapid growth made “Flower Moon” an easy seasonal marker in many regions. Other names include Dancing Moon\, Budding Moon\, Milk Moon\, Snake Moon\, and Egg Laying Moon.
URL:https://www.harborpointrentals.com/event/cape-st-st-george-sunset-full-moon-climb/
LOCATION:Saint George Island Lighthouse\, 2-B East Gulf Beach Drive\, Saint George Island\, 32328
ATTACH;FMTTYPE=image/jpeg:https://www.harborpointrentals.com/wp-content/uploads/2026/04/wish-upon-a-star2-scaled-CDP4Ej.jpg
ORGANIZER;CN="Saint George Lighthouse Association":MAILTO:info@stgeorgelight.org
END:VEVENT
BEGIN:VEVENT
DTSTART;VALUE=DATE:20260502
DTEND;VALUE=DATE:20260503
DTSTAMP:20260423T110348
CREATED:20260415T150033Z
LAST-MODIFIED:20260422T153034Z
UID:16950-1777680000-1777766399@www.harborpointrentals.com
SUMMARY:Historic Apalachicola Home & Garden Tour
DESCRIPTION:The Historic Apalachicola Home and Garden Tour returns Saturday\, May 2\, inviting visitors to explore some of the community’s most distinctive homes. A featured highlight is a residence redesigned by noted Modernist architect Hugh Newell Jacobsen\, known for his work on a Martha’s Vineyard home for Jacqueline Kennedy Onassis.\nFounded in 1992 by the women of Trinity Episcopal Church\, the annual event celebrates Apalachicola’s architectural heritage while raising funds to preserve Trinity’s historic campus and support local outreach efforts. In addition to private home tours\, guests may visit the City Square Community Garden\, tour Trinity’s 1838 sanctuary with costumed docents\, and view a special exhibit at Live Oak Gallery.\nThe weekend begins Friday\, May 1\, with a 6 p.m. Evensong service and reception. On Saturday\, a public silent auction opens at 9 a.m. on the church grounds.\nAdvance tickets are $30; day-of-tour tickets are $35.
URL:https://www.harborpointrentals.com/event/historic-apalachicola-home-garden-tour/
LOCATION:Apalachicola Trinity Episcopal Church\, 79 6th St\, Apalachicola\, FL\, United States
ATTACH;FMTTYPE=image/jpeg:https://www.harborpointrentals.com/wp-content/uploads/2026/04/Tour-of-Homes-2026-j4FOKA.jpg
END:VEVENT
BEGIN:VEVENT
DTSTART;VALUE=DATE:20260502
DTEND;VALUE=DATE:20260518
DTSTAMP:20260423T110348
CREATED:20260417T153032Z
LAST-MODIFIED:20260422T153034Z
UID:16958-1777680000-1779062399@www.harborpointrentals.com
SUMMARY:“If This House Could Talk” History Tour
DESCRIPTION:The Apalachicola Area Historical Society (AAHS) announces the return of its popular self-guided history tour\, “If This House Could Talk\,” taking place May 2 through May 17\, 2026\, throughout historic Apalachicola. This free event transforms the town into an open-air museum with 30 locations expected where visitors can explore local history through engaging visual storyboards. Guests are invited to view the storyboards (but not enter the properties) at their own pace during this event.\nWhat if the homes\, historic locations and buildings in Apalachicola could talk? What stories would they tell? The Apalachicola Area Historical Society invites guests to find out by viewing storyboards placed in front of notable homes\, businesses\, parks\, and historic sites. Created by property owners\, these displays share interesting and sometimes odd historical facts and stories of these Apalachicola places and their past residents. The self-guided format allows visitors to explore the town at their own pace\, choosing their own route and schedule while following a tour of photos\, maps\, and narrative text\, bringing local history to life in an accessible way.\nMaps\, showing storyboard locations\, will be available soon at the Raney House Museum at 128 Market Street\, the Apalachicola Bay Chamber at 73 Avenue E\, Oystertown Books at 67 Commerce Street\, Franklin County Visitor Center at 731 US 98 Eastpoint\, the Apalachicola Margaret Key Public Library at 80 12th St.\, online and at the AAHS Facebook page. Guests can use the map to visit a variety of storyboard locations of their choosing including businesses\, parks\, historic homes and more.
URL:https://www.harborpointrentals.com/event/if-this-house-could-talk-history-tour/
LOCATION:Raney House – Carriage House\, 129 Market St\, Apalachicola\, FL\, United States
ATTACH;FMTTYPE=image/jpeg:https://www.harborpointrentals.com/wp-content/uploads/2023/05/If-This-House-Could-Talk-Tour-tP7gvv.tmp_.jpg
ORGANIZER;CN="Apalachicola Area Historical Society":MAILTO:aahs.raney@gmail.com
END:VEVENT
BEGIN:VEVENT
DTSTART;TZID=America/New_York:20260502T090000
DTEND;TZID=America/New_York:20260502T130000
DTSTAMP:20260423T110348
CREATED:20260418T153032Z
LAST-MODIFIED:20260422T153034Z
UID:16963-1777712400-1777726800@www.harborpointrentals.com
SUMMARY:Country Farmer’s Market in Carrabelle
DESCRIPTION:The Crooked River Lighthouse is hosting a Country & Vintage Flea Market on Saturday\, May 2\, from 9:00 am to 1:00 pm ET at the foot of Carrabelle’s lighthouse. This is a wonderful opportunity to shop small and shop local for unique gifts while supporting local vendors\, artists\, bakers\, artisans and crafters. Crooked River Lighthouse is located 1975 Hwy 98 West\, Carrabelle\, FL. Special for this week’s market\, a vintage flea market is being added!\nThis special Market is a perfect time for folks to get started on their spring cleaning or snag some extra-special deals in addition to the locally-made\, hand crafted goods that are available at every market. From thrift-store worthy scores to high-end antiques\, all are invited to bring their much loved treasures to the market to find them a new home. The market welcomes a diversity of products such as home décor\, furniture\, vintage jewelry\, music\, antiques\, tools\, ceramics and kitchenware\, books\, art\, toys\, and gently used clothing. Items just need to be clean and in good condition.\nThe Country Market features wonderful vendors from the area offering a variety of goodies\, including organic farm-fresh produce\, mouth watering cinnamon rolls\, artisan breads and other baked goods\, grass-fed beef\, handmade goods and craft items\, assorted jellies\, stunning art and decor\, fresh eggs\, batch-roasted coffee\, locally handmade jewelry\, handcrafted balms and sprays\, unique t-shirts and clothing\, and homemade hot sauces and salsa and plants.\nGuests are also invited to explore the Keeper’s House Museum and the historic Fresnel lens exhibit and the gift shop from 9:00 am to 5:00 pm ET. From jewelry to one-of-a-kind nautical and coastal art\, souvenirs and keepsakes\, the shop provides something special for everyone. For an added adventure\, visitors have the unique opportunity to climb to the top of the lighthouse for a breathtaking view of St. George Sound for a small fee.\nNew and returning vendors are welcome to join any time for $10 per market by emailing carrabellelighthouse@gmail.com. For more information\, call 850-697-2732 or visit www.crookedriverlighthouse.com. Funded in part by the Franklin County Tourist Development Council.
URL:https://www.harborpointrentals.com/event/country-farmers-market-in-carrabelle-20/
LOCATION:Crooked River Lighthouse\, 2100 Hwy 98\, Carrabelle\, FL\, United States
ATTACH;FMTTYPE=image/jpeg:https://www.harborpointrentals.com/wp-content/uploads/2024/02/Carrabelle-Country-Market-86KRf7.tmp_.jpg
ORGANIZER;CN="Crooked River Lighthouse":MAILTO:carrabellelighthouse@gmail.com
END:VEVENT
BEGIN:VEVENT
DTSTART;TZID=America/New_York:20260504T180000
DTEND;TZID=America/New_York:20260504T190000
DTSTAMP:20260423T110348
CREATED:20260419T153034Z
LAST-MODIFIED:20260422T153034Z
UID:16967-1777917600-1777921200@www.harborpointrentals.com
SUMMARY:Yoga @ Apalachicola Library
DESCRIPTION:Yoga class led by Kathy Jansen (CYT 200 & 500) with Spirit of the River Yoga Studio and Store (https://www.spiritoftheriveryoga.com/) . Class is by-donation\, and begins shortly after 6pm when the library closes for business. Come early to sign a liability waiver\, set out your mat and get comfortable. Some mats/blocks/straps/blankets available for use\, though attendees are encouraged to bring their own.
URL:https://www.harborpointrentals.com/event/yoga-apalachicola-library-25/
LOCATION:Apalachicola Margaret Key Library\, Apalachicola\, FL\, United States
END:VEVENT
BEGIN:VEVENT
DTSTART;TZID=America/New_York:20260504T200000
DTEND;TZID=America/New_York:20260504T213000
DTSTAMP:20260423T110348
CREATED:20260419T153034Z
LAST-MODIFIED:20260422T153034Z
UID:16968-1777924800-1777930200@www.harborpointrentals.com
SUMMARY:Apalach Ghost Tour
DESCRIPTION:Join us for local ghost stories\, area legends\, and tales of hauntings in downtown Apalachicola while using ghost-hunting equipment to seek out any lingering spirits. Select tour goers and volunteers will get to use EMF detectors\, and other ghost-hunting equipment at select locations on the tour. Bring your positive energy and let’s try to say “hello” to the ghosts of Apalachicola. The tour will begin in front of the Chamber of Commerce which is located at 17 Avenue E next to the Dixie Theatre. This tour ranges in length from an hour and a half to an hour and 45 minutes.
URL:https://www.harborpointrentals.com/event/apalach-ghost-tour-301/
LOCATION:Apalachicola
ATTACH;FMTTYPE=image/jpeg:https://www.harborpointrentals.com/wp-content/uploads/2025/07/GhostTourChamberWebsite-copy-N2uvlZ.jpg
ORGANIZER;CN="Apalach Ghost Tour":MAILTO:boo@apalachghosttour.com
END:VEVENT
BEGIN:VEVENT
DTSTART;VALUE=DATE:20260505
DTEND;VALUE=DATE:20260531
DTSTAMP:20260423T110348
CREATED:20260419T153034Z
LAST-MODIFIED:20260422T153034Z
UID:16969-1777939200-1780185599@www.harborpointrentals.com
SUMMARY:Special Exhibit on the Women of WWII
DESCRIPTION:Camp Gordon Johnston WWII Museum in Carrabelle is presenting an exhibit on the U.S. Women of WWII. This exhibit will open on Tuesday\, May 5 and be on display at the museum until Saturday\, May 30. The museum is open every Tuesday through Saturday from 11 am to 5 pm. There is no charge for admission\, but donations are gladly accepted.\nDuring WWII\, American women played a crucial role\, serving in the war effort as members of the Women’s Army Corps (WACs)\, Women Accepted for Volunteer Emergency Service (WAVES) of the U.S. Navy\, the SPARs of the United States Coast Guard Women’s Reserve (Semper Paratus\, Always Ready)\, the U. S. Marine Corps Women’s Reserve (MCWR)\, and as WASPs (Women Airforce Service Pilots)\, as well as civilians working in war industries throughout the country. Over 350\,000 American women served in the U. S. Armed Forces during World War II\, taking on over 200 different roles. Their work filled vital positions that supported the war effort both at home and overseas and ranged from mechanics\, pilots\, and drivers to gunnery instructors\, nurses\, postal workers\, and translators. During their service\, 432 servicewomen lost their lives and 88 were taken prisoner.\nThis exhibit will showcase the many contributions of women during WWII and explain the important roles they played in the war effort. Featured displays will include historic photos and authentic artifacts such as uniforms\, handbooks\, and even a practice aptitude test given to women applicants hoping to enlist. The exhibit will also highlight individuals like U.S. Navy Flight Nurses\, who were among the first women to arrive at battles such as Iwo Jima and Okinawa\, and will remember and honor many of the local women of Franklin County who served during World War II.
URL:https://www.harborpointrentals.com/event/special-exhibit-on-the-women-of-wwii-2/
LOCATION:Camp Gordon Johnston WWII Museum\, 2100 Hwy 98\, Carrabelle\, FL\, United States
ATTACH;FMTTYPE=image/jpeg:https://www.harborpointrentals.com/wp-content/uploads/2023/10/Special-Exhibit-on-the-Women-of-WWII@2x-Rr2XVa.tmp_.jpg
ORGANIZER;CN="Camp Gordon Johnston WWII Museum":MAILTO:museum@campgordonjohnston.com
END:VEVENT
BEGIN:VEVENT
DTSTART;TZID=America/New_York:20260505T120000
DTEND;TZID=America/New_York:20260505T200000
DTSTAMP:20260423T110348
CREATED:20260421T153034Z
LAST-MODIFIED:20260422T153035Z
UID:16979-1777982400-1778011200@www.harborpointrentals.com
SUMMARY:Cinco De Mayo at Crooked River Grill
DESCRIPTION:This Cinco de Mayo\, Crooked River Grill turns into the kind of party you don’t stumble into… you plan for.\nWe’re talking fresh\, handcrafted margaritas made the right way\, smooth tequila flights that take you from crisp blanco to rich añejo\, and bold\, flavor-packed dishes that hit every note. Think loaded taco bowls stacked with all the good stuff\, smoky queso bubbling with roasted peppers and sweet corn\, and oversized burritos smothered and done right.\nIt’s loud\, it’s lively\, and it’s built for a full day of great food\, strong drinks\, and even better company. Noon to night\, the energy stays high and the plates keep coming.\nShow up hungry. Stay for the party.
URL:https://www.harborpointrentals.com/event/cinco-de-mayo-at-crooked-river-grill/
LOCATION:Crooked River Grill\, 133 Quail Ln\, Monticello\, FL\, United States
ATTACH;FMTTYPE=image/jpeg:https://www.harborpointrentals.com/wp-content/uploads/2026/04/Cinco-De-Mayo-TDC-Mc70M7.jpg
ORGANIZER;CN="Crooked River Grill":MAILTO:chef@stjamesbayresort.com
END:VEVENT
BEGIN:VEVENT
DTSTART;TZID=America/New_York:20260505T180000
DTEND;TZID=America/New_York:20260505T193000
DTSTAMP:20260423T110348
CREATED:20260421T153034Z
LAST-MODIFIED:20260422T153035Z
UID:16981-1778004000-1778009400@www.harborpointrentals.com
SUMMARY:Trivia Tuesdays at Crooked River Grill
DESCRIPTION:Get ready for the most entertaining night of the week at Crooked River Grill! Join us every Tuesday from 6–7:30 PM for Trivia Night hosted by the one and only Cecily Stevens—bringing the energy\, the laughs\, and just the right amount of competitive chaos.\nExpect plenty of hootin’ and hollerin’\, fast-paced fun\, and questions that’ll keep your brain firing on all cylinders. Whether you’re a trivia junkie or just here for a good time\, this is your chance to test your knowledge\, rally your crew\, and maybe even walk away with bragging rights.\nEven better? It’s all for a great cause. Entry is just $2\, and every dollar goes toward supporting a different local nonprofit each month—so you can feel good while you’re having a blast.\nCome soak in the atmosphere\, enjoy the beauty of the property\, and bring your A-game.\nYou bring the brains—we’ll bring the teasers.
URL:https://www.harborpointrentals.com/event/trivia-tuesdays-at-crooked-river-grill-10/
LOCATION:Crooked River Grill\, 133 Quail Ln\, Monticello\, FL\, United States
ATTACH;FMTTYPE=image/png:https://www.harborpointrentals.com/wp-content/uploads/2026/03/Trivia-TDC-Dimensions-mN9UX5.png
ORGANIZER;CN="Crooked River Grill":MAILTO:chef@stjamesbayresort.com
END:VEVENT
BEGIN:VEVENT
DTSTART;TZID=America/New_York:20260507T150000
DTEND;TZID=America/New_York:20260507T180000
DTSTAMP:20260423T110348
CREATED:20260421T153035Z
LAST-MODIFIED:20260422T153035Z
UID:16982-1778166000-1778176800@www.harborpointrentals.com
SUMMARY:Yappy Hour at the Beer Garden
DESCRIPTION:Thursdays just got a whole lot better\, for you and your pup. Yappy Hour at St. James Bay is the perfect excuse to kick back in our laid-back outdoor setting\, where the breeze off the bay\, warm sunshine\, and easygoing vibe set the tone for a relaxing afternoon.\nWhile you enjoy happy hour food and drink specials\, your dog gets the VIP treatment with free snacks and fresh water bowls\, because they deserve a good time too. It’s part social hour\, part puppy party\, with plenty of tail wags\, cold drinks\, and great company all around.\nGrab a seat\, bring your pup\, and settle in. This is what afternoons at the bay are all about.
URL:https://www.harborpointrentals.com/event/yappy-hour-at-the-beer-garden-6/
LOCATION:Crooked River Grill\, 133 Quail Ln\, Monticello\, FL\, United States
ORGANIZER;CN="Crooked River Grill":MAILTO:chef@stjamesbayresort.com
END:VEVENT
BEGIN:VEVENT
DTSTART;TZID=America/New_York:20260509T090000
DTEND;TZID=America/New_York:20260509T130000
DTSTAMP:20260423T110348
CREATED:20260422T153035Z
LAST-MODIFIED:20260422T153035Z
UID:16990-1778317200-1778331600@www.harborpointrentals.com
SUMMARY:Apalachicola Farmers Market
DESCRIPTION:Located at 133 Avenue E\, across from CVS\, the Apalachicola Farmers Market offers local seafood\, produce\, honey\, homemade breads\, pies\, and other regional specialties every 2nd and 4th Saturday from 9 AM until 1 PM in Apalachicola.
URL:https://www.harborpointrentals.com/event/apalachicola-farmers-market-114/
LOCATION:133 Avenue E\, 133 Avenue E\, Apalachicola\, FL\, United States
ATTACH;FMTTYPE=image/jpeg:https://www.harborpointrentals.com/wp-content/uploads/2022/04/Apalachicola-Farmers-Market-lUWr3n.tmp_.jpg
ORGANIZER;CN="Apalachicola Farmers Market":MAILTO:apalachicolafarmersmarket@gmail.com
END:VEVENT
END:VCALENDAR