BEGIN:VCALENDAR
VERSION:2.0
PRODID:-//Harbor Point Vacation Rentals - ECPv6.15.20//NONSGML v1.0//EN
CALSCALE:GREGORIAN
METHOD:PUBLISH
X-WR-CALNAME:Harbor Point Vacation Rentals
X-ORIGINAL-URL:https://www.harborpointrentals.com
X-WR-CALDESC:Events for Harbor Point Vacation Rentals
REFRESH-INTERVAL;VALUE=DURATION:PT1H
X-Robots-Tag:noindex
X-PUBLISHED-TTL:PT1H
BEGIN:VTIMEZONE
TZID:America/New_York
BEGIN:DAYLIGHT
TZOFFSETFROM:-0500
TZOFFSETTO:-0400
TZNAME:EDT
DTSTART:20250309T070000
END:DAYLIGHT
BEGIN:STANDARD
TZOFFSETFROM:-0400
TZOFFSETTO:-0500
TZNAME:EST
DTSTART:20251102T060000
END:STANDARD
BEGIN:DAYLIGHT
TZOFFSETFROM:-0500
TZOFFSETTO:-0400
TZNAME:EDT
DTSTART:20260308T070000
END:DAYLIGHT
BEGIN:STANDARD
TZOFFSETFROM:-0400
TZOFFSETTO:-0500
TZNAME:EST
DTSTART:20261101T060000
END:STANDARD
BEGIN:DAYLIGHT
TZOFFSETFROM:-0500
TZOFFSETTO:-0400
TZNAME:EDT
DTSTART:20270314T070000
END:DAYLIGHT
BEGIN:STANDARD
TZOFFSETFROM:-0400
TZOFFSETTO:-0500
TZNAME:EST
DTSTART:20271107T060000
END:STANDARD
END:VTIMEZONE
BEGIN:VEVENT
DTSTART;VALUE=DATE:20260331
DTEND;VALUE=DATE:20260503
DTSTAMP:20260422T065756
CREATED:20260331T140008Z
LAST-MODIFIED:20260421T153010Z
UID:16830-1774915200-1777766399@www.harborpointrentals.com
SUMMARY:Special Exhibit: Remembering the Holocaust
DESCRIPTION:Camp Gordon Johnston WWII Museum in Carrabelle is presenting an exhibit to remember the Holocaust\, Hitler’s program to commit genocide against those he deemed unworthy\, especially Europe’s Jews.  This exhibit will open on Tuesday\, March 31 and be on display at the museum until Saturday\, May 2.  The museum is open every Tuesday through Saturday from 11 am to 5 pm. There is no charge for admission\, but donations are gladly accepted.\nBeginning in 1933\, the German Government established prison\, labor\, concentration\, and extermination camps throughout their territories\, including in countries they occupied before and during the war. Groups that were arrested and detained included Roma\, Communists\, Jehovah’s Witnesses\, homosexuals\, the disabled and especially Jews. Some 12 million people perished in the more than 44\,000 facilities\, ghettos and killing fields across Europe\, including 6 million Jews. The Museum acknowledges the need for all citizens to understand this dark period of history\, what caused it\, who perpetrated it\, and how some resisted and fought their captors. Eyewitnesses such as survivors and the soldiers that liberated these camps are aging and dying\, but many have told their stories. Visitors are invited to come see this sobering exhibit\, and help our society remember those that were victims of atrocity\, prejudice\, and hate.\nThe internationally recognized date for Holocaust Remembrance Day corresponds to the 27th day of Nisan on the Hebrew calendar and it marks the anniversary of the Warsaw Ghetto Uprising which started on April 19\, 1943. In Hebrew\, Holocaust Remembrance Day is called Yom Hashoah. In 2026\, Yom HaShoah will be recognized beginning at sunset on the evening of Monday\, April 13 – Tuesday\, April 14.
URL:https://www.harborpointrentals.com/event/special-exhibit-remembering-the-holocaust-2/
LOCATION:Camp Gordon Johnston WWII Museum\, 2100 Hwy 98\, Carrabelle\, FL\, United States
ATTACH;FMTTYPE=image/jpeg:https://www.harborpointrentals.com/wp-content/uploads/2021/06/Special-Exhibit-at-Camp-Gordon-Johnston-WWII-Museum-Holocaust-gHLOsS.tmp_.jpg
ORGANIZER;CN="Camp Gordon Johnston WWII Museum":MAILTO:museum@campgordonjohnston.com
END:VEVENT
BEGIN:VEVENT
DTSTART;TZID=America/New_York:20260422T100000
DTEND;TZID=America/New_York:20260422T140000
DTSTAMP:20260422T065756
CREATED:20260402T140035Z
LAST-MODIFIED:20260421T153010Z
UID:16846-1776852000-1776866400@www.harborpointrentals.com
SUMMARY:Celebrate Earth Day
DESCRIPTION:Celebrate Earth Day on the beautiful Apalachicola waterfront and discover simple ways you can help turn the tide on waste. Join friends\, neighbors\, and local organizations at Riverfront Park for a fun and informative community event focused on reuse\, recycling\, and caring for our coast.\nMeet local experts and volunteers who are working every day to protect the Apalachicola River and Bay. Learn practical ways to reduce waste at home\, recycle more effectively\, and give new life to everyday items.\nBring a glass bottle to recycle and receive a free plant while supplies last!\nLearn about oyster shell recycling and Vertical Oyster Gardening and how they help restore the bay.\nLearn how to recycle aluminum cans\, glass bottles and jars\, and cardboard in Franklin County.\nRecycle worn or stained clothing with the City Recycling Group.\nDiscover native plants and sustainable landscaping ideas.\nConnect with local groups working to protect our environment.\nThis community event is hosted in partnership with Keep Florida Beautiful\, Keep Franklin County Beautiful\, the Apalachicola National Estuarine Research Reserve\, Franklin County Solid Waste\, Florida DEP Waste Reduction and Recycling Education\, Florida Corps\, City of Apalachicola\, Florida Native Plant Society – Sarracenia Chapter\, Florida State Parks\, Apalachicola Riverkeeper\, City Recycling Group\, and the Florida State University Coastal and Marine Laboratory.\nBring your friends\, bring your family\, and bring a bottle to recycle. Together we can make a difference in the places we love!
URL:https://www.harborpointrentals.com/event/celebrate-earth-day/
LOCATION:Apalachicola Riverfront Park\, 119 Water St\, Apalachicola\, FL\, United States
END:VEVENT
BEGIN:VEVENT
DTSTART;TZID=America/New_York:20260422T160000
DTEND;TZID=America/New_York:20260422T210000
DTSTAMP:20260422T065756
CREATED:20260408T143032Z
LAST-MODIFIED:20260421T153010Z
UID:16893-1776873600-1776891600@www.harborpointrentals.com
SUMMARY:Apalachicola Riverkeeper & AYC
DESCRIPTION:Extend the fun of Earth Day with Apalachicola Riverkeeper @ AYC.\nSINGO at 6pm – No card charge but donations are encouraged and always appreciated.\nABC School will have their art project for Earth Day on display\, come show these kids your support!\nWater Is Life will be in the court yard with others.\nFull Day celebrating this wonderful Earth. See you there!
URL:https://www.harborpointrentals.com/event/apalachicola-riverkeeper-ayc/
LOCATION:Apalachicola Yacht Club\, 170 Water Street\, Apalachicola\, 32320
END:VEVENT
END:VCALENDAR